BEGIN:VCALENDAR
VERSION:2.0
PRODID:-//hacksw/handcal//NONSGML v1.0//EN
BEGIN:VEVENT
SUMMARY:Championnat Cotes d'Armor ete U14 et +
UID:8e8d40f9-64a9-4e17-9c3b-a5d55f67f810
DTSTART:20260612T220000Z
DTEND:20260614T220000Z
LOCATION:Localisation 25 rue du capitaine Hesry 22100 Dinan
CATEGORIES:Sportif
STATUS:
DESCRIPTION:<p>
 <style type="text/css"><!--br
 {mso-data-placement:same-cell;}-->
 </style>
 </p>
 
 <table
 cellpadding="0" cellspacing="0" data-sheets-baot="1"
 data-sheets-root="1" dir="ltr"
 xmlns="http://www.w3.org/1999/xhtml">
 	<colgroup>
 		<col width="103"
 />
 		<col width="103" />
 		<col width="103" />
 		<col width="134"
 />
 		<col width="103" />
 		<col width="103"
 />
 	</colgroup>
 	<tbody>
 		<tr>
 			<td colspan="6"
 rowspan="1">Categories :</td>
 		</tr>
 		<tr>
 			<td colspan="6"
 rowspan="1">U14 et U15 (nes en 2011 et
 2012)</td>
 		</tr>
 		<tr>
 			<td colspan="6" rowspan="1">U16 et +
 (nes en 2010 et avant)</td>
 		</tr>
 		<tr>
 			<td colspan="3"
 rowspan="1"> </td>
 			<td> </td>
 			<td> </td>
 			<td> </td>
 		</tr>
 		<tr>
 			<td> </td>
 			<td> </td>
 			<td> </td>
 			<td> </td>
 			<td> </td>
 			<td> </td>
 		</tr>
 		<tr>
 			<td
 colspan="6" rowspan="1">Engagements :</td>
 		</tr>
 		<tr>
 			<td
 colspan="6" rowspan="1">fin des engagements le mercredi precedent la
 competition</td>
 		</tr>
 		<tr>
 			<td> </td>
 			<td> </td>
 			<td> </td>
 			<td> </td>
 			<td> </td>
 			<td> </td>
 		</tr>
 		<tr>
 			<td
 colspan="6" rowspan="1">Programme :</td>
 		</tr>
 		<tr>
 			<td
 colspan="6" rowspan="1">Les grilles d'acces sont a titre indicatf,
 les entraineurs doivent cependant faire preuve de bon sens lors des
 engagements<br />
 			Une seule serie de 800 nage libre et de 1500
 nage libre<br />
 			6 epreuves individuelles maximums par nageurs sur
 l'ensemble de la competition (maximum 3 par jours)<br />
 			Les
 series se nageront toutes categories<br />
 			Une finale sur les 50
 et 100 (Finale A toutes categories et Finale B reservee U14 et
 U15).<br />
 			Classement au temps sur 200 et +<br />
 			1 equipe
 juniors et + par relais et par club<br />
 			Apres validation au pet
 de l'ETD, les clubs exterieurs peuvent y participer. Cependant
 l'acces au final se limite a un nageur seulement exterieur au
 departement)</td>
 		</tr>
 		<tr>
 			<td colspan="6"
 rowspan="1"> </td>
 		</tr>
 		<tr>
 			<td colspan="6"
 rowspan="1">Recompenses :</td>
 		</tr>
 		<tr>
 			<td colspan="6"
 rowspan="1">Medailles par epreuves aux 3 premiers par categories
 (voir ci-dessus) 50 et 100 a l'issue des finales, 200 et + a l'issue
 des series.<br />
 			Recompense aux 3 premiers relais<br />
 			1 lot
 a la meilleure performance par categorie du
 week-end.</td>
 		</tr>
 		<tr>
 			<td colspan="6"
 rowspan="1"> </td>
 		</tr>
 		<tr>
 			<td> </td>
 			<td> </td>
 			<td> </td>
 			<td> </td>
 			<td> </td>
 			<td> </td>
 		</tr>
 		<tr>
 			<td> </td>
 			<td> </td>
 			<td> </td>
 			<td> </td>
 			<td> </td>
 			<td> </td>
 		</tr>
 		<tr>
 			<td> </td>
 			<td
 colspan="4" rowspan="1">Championnats Departementaux Ete U14 et
 +</td>
 			<td> </td>
 		</tr>
 		<tr>
 			<td> </td>
 			<td
 colspan="2" rowspan="1">13 juin 2026</td>
 			<td colspan="2"
 rowspan="1">14 juin
 2026</td>
 			<td> </td>
 		</tr>
 		<tr>
 			<td> </td>
 			<td>Ouverture
 des portes : 8h30</td>
 			<td>Ouverture des portes :
 14h00</td>
 			<td>Ouverture des portes : 8h30</td>
 			<td>Ouverture
 des portes :
 14h00</td>
 			<td> </td>
 		</tr>
 		<tr>
 			<td> </td>
 			<td>Debut
 de la competition : 9h30</td>
 			<td>Debut de la competition :
 15h00</td>
 			<td>Debut de la competition : 9h30</td>
 			<td>Debut de
 la competition :
 15h00</td>
 			<td> </td>
 		</tr>
 		<tr>
 			<td> </td>
 			<td>200 4
 nages</td>
 			<td>1500 nage libre</td>
 			<td>4*100m 4n ind
 ICU13</td>
 			<td>
 			<p>100 brasse
 ICU13</p>
 			</td>
 			<td> </td>
 		</tr>
 		<tr>
 			<td> </td>
 			<td>50
 nage libre</td>
 			<td>50 dos</td>
 			<td>400 4 nages</td>
 			<td>800
 nage
 libre</td>
 			<td> </td>
 		</tr>
 		<tr>
 			<td> </td>
 			<td>200
 dos</td>
 			<td>200 nage libre</td>
 			<td>50 papillon</td>
 			<td>50
 brasse</td>
 			<td> </td>
 		</tr>
 		<tr>
 			<td> </td>
 			<td>100
 papillon</td>
 			<td>100 brasse</td>
 			<td>100 pap
 ICU13</td>
 			<td>100 nl
 ICU13</td>
 			<td> </td>
 		</tr>
 		<tr>
 			<td> </td>
 			<td>400
 nage libre</td>
 			<td>Finale 50 dos</td>
 			<td>100
 dos</td>
 			<td>100 nage
 libre</td>
 			<td> </td>
 		</tr>
 		<tr>
 			<td> </td>
 			<td>200
 brasse</td>
 			<td>200 Papillon</td>
 			<td>100 4
 nages</td>
 			<td>Finales 50
 brasse</td>
 			<td> </td>
 		</tr>
 		<tr>
 			<td> </td>
 			<td>Finales
 50 nage libre</td>
 			<td>Finales 100 brasse</td>
 			<td>100 dos
 ICU13</td>
 			<td>Finales 100 nage
 libre</td>
 			<td> </td>
 		</tr>
 		<tr>
 			<td> </td>
 			<td>Finales
 100 papillon</td>
 			<td>4 x 100 4 nages mixte</td>
 			<td>Finales 50
 Papillon</td>
 			<td>4*50m nl
 ICU13</td>
 			<td> </td>
 		</tr>
 		<tr>
 			<td> </td>
 			<td>4 x
 100 Nage Libre Mixte</td>
 			<td> </td>
 			<td>Finales 100
 Dos</td>
 			<td> </td>
 			<td> </td>
 		</tr>
 		<tr>
 			<td> </td>
 			<td> </td>
 			<td> </td>
 			<td>Finales
 100 4
 nages</td>
 			<td> </td>
 			<td> </td>
 		</tr>
 	</tbody>
 </table>
URL;VALUE=URI:https://www.lannionnatation.com/evenements/2026/06/13/championnat-cotes-darmor-ete-u14-et-2319257
END:VEVENT
END:VCALENDAR
