BEGIN:VCALENDAR
VERSION:2.0
PRODID:-//hacksw/handcal//NONSGML v1.0//EN
BEGIN:VEVENT
SUMMARY:Plot Yaouank 3 et DAE 3
UID:eca33cc4-d231-4582-9f06-0e6784e8c3ed
DTSTART:20260523T220000Z
DTEND:20260524T220000Z
LOCATION:Localisation   
CATEGORIES:Sportif
STATUS:
DESCRIPTION:<p>
 <style type="text/css"><!--br
 {mso-data-placement:same-cell;}-->
 </style>
 </p>
 
 <p>Cette
 competition s'adresse aux nageurs 2014-2013 non qualifies sur la
 journee regionale Yaouank et aux nageurs nes en 2012 et
 avant</p>
 
 <p> </p>
 
 <table cellpadding="0" cellspacing="0"
 data-sheets-baot="1" data-sheets-root="1" dir="ltr"
 xmlns="http://www.w3.org/1999/xhtml">
 	<colgroup>
 		<col width="103"
 />
 		<col width="103" />
 		<col width="103" />
 		<col width="103"
 />
 		<col width="103" />
 		<col width="103"
 />
 	</colgroup>
 	<tbody>
 		<tr>
 			<td colspan="6"
 rowspan="1">Categories :</td>
 		</tr>
 		<tr>
 			<td>Pour le
 Yaouank</td>
 			<td> </td>
 			<td> </td>
 			<td> </td>
 			<td> </td>
 			<td> </td>
 		</tr>
 		<tr>
 			<td
 colspan="6" rowspan="1">U12 et - (nes en 2014) Apres demande a l'ETD
 possibilite d'integrer des nageurs de 2015</td>
 		</tr>
 		<tr>
 			<td
 colspan="6" rowspan="1">U13 (nes en
 2013)</td>
 		</tr>
 		<tr>
 			<td>Pour DAE
 3</td>
 			<td> </td>
 			<td> </td>
 			<td> </td>
 			<td> </td>
 			<td> </td>
 		</tr>
 		<tr>
 			<td
 colspan="6" rowspan="1">U14 et U15 (nes en 2011 et
 2012)</td>
 		</tr>
 		<tr>
 			<td colspan="6" rowspan="1">U16 et +
 (nes en 2010 et
 avant)</td>
 		</tr>
 		<tr>
 			<td> </td>
 			<td> </td>
 			<td> </td>
 			<td> </td>
 			<td> </td>
 			<td> </td>
 		</tr>
 		<tr>
 			<td
 colspan="6" rowspan="1">Engagements :</td>
 		</tr>
 		<tr>
 			<td
 colspan="6" rowspan="1">fin des engagements le mercredi precedent la
 competition</td>
 		</tr>
 		<tr>
 			<td> </td>
 			<td> </td>
 			<td> </td>
 			<td> </td>
 			<td> </td>
 			<td> </td>
 		</tr>
 		<tr>
 			<td
 colspan="6" rowspan="1">Reglement :</td>
 		</tr>
 		<tr>
 			<td
 colspan="6" rowspan="1">Pour les nageurs du parcours DAE 2 2 epreuves
 individuelles maximums par nageur par reunion.<br />
 			Pour les
 nageurs du parcours Yaouank 2 epreuves individuelles maximums par
 nageur par reunion. Les nageurs retenus pour la journee regionale
 Yaouank n'ont pas le droit de participer a cette
 competition</td>
 		</tr>
 		<tr>
 			<td colspan="6"
 rowspan="1"> </td>
 		</tr>
 		<tr>
 			<td colspan="6"
 rowspan="1">Recompenses :</td>
 		</tr>
 		<tr>
 			<td colspan="6"
 rowspan="1">Medaille au 5 premiers par categories au cumul des
 quatres meilleures
 epreuves.</td>
 		</tr>
 		<tr>
 			<td> </td>
 			<td> </td>
 			<td> </td>
 			<td> </td>
 			<td> </td>
 			<td> </td>
 		</tr>
 		<tr>
 			<td> </td>
 			<td
 colspan="4" rowspan="1">DAE 3/Plot Yaouank
 3</td>
 			<td> </td>
 		</tr>
 		<tr>
 			<td> </td>
 			<td
 colspan="2" rowspan="1">Ouverture des portes : 9h00</td>
 			<td
 colspan="2" rowspan="1">Ouverture des portes :
 13h30</td>
 			<td> </td>
 		</tr>
 		<tr>
 			<td> </td>
 			<td
 colspan="2" rowspan="1">Debut de la competition : 10h00</td>
 			<td
 colspan="2" rowspan="1">Debut de la competition :
 14h30</td>
 			<td> </td>
 		</tr>
 		<tr>
 			<td> </td>
 			<td
 colspan="2" rowspan="1">400 NL TTC</td>
 			<td colspan="2"
 rowspan="1">800 NL
 TTC</td>
 			<td> </td>
 		</tr>
 		<tr>
 			<td> </td>
 			<td
 colspan="2" rowspan="1">200 Brasse TTC</td>
 			<td colspan="2"
 rowspan="1">100 Brasse
 TTC</td>
 			<td> </td>
 		</tr>
 		<tr>
 			<td> </td>
 			<td
 colspan="2" rowspan="1">50 Papillon U14 et +</td>
 			<td colspan="2"
 rowspan="1">50 NL U14 et
 +</td>
 			<td> </td>
 		</tr>
 		<tr>
 			<td> </td>
 			<td
 colspan="2" rowspan="1">100 Dos TTC</td>
 			<td colspan="2"
 rowspan="1">200 Dos
 TTC</td>
 			<td> </td>
 		</tr>
 		<tr>
 			<td> </td>
 			<td
 colspan="2" rowspan="1">200 Papillon TTC</td>
 			<td colspan="2"
 rowspan="1">100 Papillon
 TTC</td>
 			<td> </td>
 		</tr>
 		<tr>
 			<td> </td>
 			<td
 colspan="2" rowspan="1">50 dos U14 et +</td>
 			<td colspan="2"
 rowspan="1">50 Brasse U14 et
 +</td>
 			<td> </td>
 		</tr>
 		<tr>
 			<td> </td>
 			<td
 colspan="2" rowspan="1">100 NL TTC</td>
 			<td colspan="2"
 rowspan="1">200 NL
 TTC</td>
 			<td> </td>
 		</tr>
 		<tr>
 			<td> </td>
 			<td
 colspan="2" rowspan="1">400 4 Nages TTC</td>
 			<td colspan="2"
 rowspan="1">200 4 Nages
 TTC</td>
 			<td> </td>
 		</tr>
 		<tr>
 			<td> </td>
 			<td> </td>
 			<td> </td>
 			<td
 colspan="2" rowspan="1">50 NL U13 et
 -</td>
 			<td> </td>
 		</tr>
 	</tbody>
 </table>
 
 <p> </p>
 
 <p> </p>
 
 <p>La
 competition etant organise par le club de Lannion Natation nous
 allons avoir besoin de votre aide merci de vous inscrire ici dans
 le<a href="https://beta.framadate.org/polls/89a6c3b7b4a07dd250de">
 tableau</a></p>
URL;VALUE=URI:https://www.lannionnatation.com/evenements/2026/05/24/plot-yaouank-3-et-dae-3-2441789
END:VEVENT
END:VCALENDAR
