BEGIN:VCALENDAR
VERSION:2.0
PRODID:-//hacksw/handcal//NONSGML v1.0//EN
BEGIN:VEVENT
SUMMARY:Meeting des corsaires
UID:09edd8b8-0f2a-4c30-934d-a8bebc53c82a
DTSTART:20260507T220000Z
DTEND:20260508T220000Z
LOCATION:Localisation piscine beau soleil  questembert
CATEGORIES:Sportif
STATUS:
DESCRIPTION:<p>Le meeting des corsaires</p>
 
 <p>Competitions a
 destination de nos avenirs 3, 4 et espoirs sur le theme des pirates
 (prevoir un deguisement en accprd avec le theme).</p>
 
 <p>A travers
 les differentes epreuves proposees, plusieurs defis seront
 possibles: </p>
 
 <p>-Defi du Mousse : nager les 4x50</p>
 
 <p>-Defi
 du Flibustier : nager les 4x100</p>
 
 <p>-Defi du Capitaine: nager
 les 4x200</p>
 
 <p>Les engagements seront a voir avec les
 entraineurs</p>
 
 <p>Merci de donner un reponse pour le 1er
 Mai</p>
 
 <p> </p>
URL;VALUE=URI:https://www.lannionnatation.com/evenements/2026/05/08/meeting-des-corsaires-2441599
END:VEVENT
END:VCALENDAR
